{
 "currentVersion": 11.5,
 "cimVersion": "3.5.0",
 "serviceDescription": " This <\/span>layer<\/span> is designed to <\/span>store<\/span> data on observations of sickness and death in wild birds from across Australia as they happen. With concerns about highly pathogenic avian influenza across the globe, these reports will help to increase awareness, determine trends and monitor the impacts of instances of sickness and death in wild birds nationally.<\/span><\/p><\/div>",
 "mapName": "Publish_map_prod",
 "description": "This layer is designed to store data on observations of sickness and death in wild birds from across Australia as they happen. With concerns about highly pathogenic avian influenza across the globe, these reports will help to increase awareness, determine trends and monitor the impacts of instances of sickness and death in wild birds nationally.",
 "copyrightText": "© Department of Agriculture, Fisheries and Forestry 2025",
 "supportsDynamicLayers": true,
 "layers": [
  {
   "id": 0,
   "name": "am_survey",
   "parentLayerId": -1,
   "defaultVisibility": true,
   "subLayerIds": null,
   "minScale": 0,
   "maxScale": 0,
   "type": "Feature Layer",
   "geometryType": "esriGeometryPoint",
   "supportsDynamicLegends": true
  }
 ],
 "tables": [
  {
   "id": 1,
   "name": "am_animal_details",
   "type": "Table"
  }
 ],
 "spatialReference": {
  "wkid": 4326,
  "latestWkid": 4326,
  "xyTolerance": 8.983152841195215E-9,
  "zTolerance": 0.001,
  "mTolerance": 0.001,
  "falseX": -400,
  "falseY": -400,
  "xyUnits": 9.999999999999999E8,
  "falseZ": -100000,
  "zUnits": 10000,
  "falseM": -100000,
  "mUnits": 10000
 },
 "singleFusedMapCache": true,
 "tileInfo": {
  "rows": 256,
  "cols": 256,
  "dpi": 96,
  "format": "PNG",
  "compressionQuality": 0,
  "origin": {
   "x": -180,
   "y": 90
  },
  "spatialReference": {
   "wkid": 4326,
   "latestWkid": 4326,
   "xyTolerance": 8.983152841195213E-9,
   "zTolerance": 0.001,
   "mTolerance": 0.001,
   "falseX": -399.9999999999999,
   "falseY": -399.9999999999999,
   "xyUnits": 1.125899906842624E13,
   "falseZ": -100000,
   "zUnits": 10000,
   "falseM": -100000,
   "mUnits": 10000
  },
  "lods": [
   {
    "level": 0,
    "resolution": 0.703125,
    "scale": 2.958287637958547E8
   },
   {
    "level": 1,
    "resolution": 0.3515625,
    "scale": 1.4791438189792734E8
   },
   {
    "level": 2,
    "resolution": 0.17578125,
    "scale": 7.395719094896367E7
   },
   {
    "level": 3,
    "resolution": 0.087890625,
    "scale": 3.6978595474481836E7
   },
   {
    "level": 4,
    "resolution": 0.0439453125,
    "scale": 1.8489297737240918E7
   },
   {
    "level": 5,
    "resolution": 0.02197265625,
    "scale": 9244648.868620459
   },
   {
    "level": 6,
    "resolution": 0.010986328125,
    "scale": 4622324.4343102295
   },
   {
    "level": 7,
    "resolution": 0.0054931640625,
    "scale": 2311162.2171551147
   },
   {
    "level": 8,
    "resolution": 0.00274658203125,
    "scale": 1155581.1085775574
   },
   {
    "level": 9,
    "resolution": 0.001373291015625,
    "scale": 577790.5542887787
   },
   {
    "level": 10,
    "resolution": 6.866455078125E-4,
    "scale": 288895.27714438934
   },
   {
    "level": 11,
    "resolution": 3.4332275390625E-4,
    "scale": 144447.63857219467
   },
   {
    "level": 12,
    "resolution": 1.71661376953125E-4,
    "scale": 72223.81928609734
   },
   {
    "level": 13,
    "resolution": 8.58306884765625E-5,
    "scale": 36111.90964304867
   },
   {
    "level": 14,
    "resolution": 4.291534423828125E-5,
    "scale": 18055.954821524334
   },
   {
    "level": 15,
    "resolution": 2.1457672119140625E-5,
    "scale": 9027.977410762167
   },
   {
    "level": 16,
    "resolution": 1.0728836059570312E-5,
    "scale": 4513.9887053810835
   },
   {
    "level": 17,
    "resolution": 5.364418029785156E-6,
    "scale": 2256.9943526905417
   },
   {
    "level": 18,
    "resolution": 2.682209014892578E-6,
    "scale": 1128.4971763452709
   },
   {
    "level": 19,
    "resolution": 1.341104507446289E-6,
    "scale": 564.2485881726354
   },
   {
    "level": 20,
    "resolution": 6.705522537231445E-7,
    "scale": 282.1242940863177
   },
   {
    "level": 21,
    "resolution": 3.3527612686157227E-7,
    "scale": 141.06214704315886
   },
   {
    "level": 22,
    "resolution": 1.6763806343078613E-7,
    "scale": 70.53107352157943
   }
  ]
 },
 "storageInfo": {
  "storageFormat": "esriMapCacheStorageModeCompactV2",
  "packetSize": 128
 },
 "initialExtent": {
  "xmin": 126.81768347167451,
  "ymin": -38.260171822865054,
  "xmax": 148.12436450163824,
  "ymax": -22.32885090649364,
  "spatialReference": {
   "wkid": 4326,
   "latestWkid": 4326,
   "xyTolerance": 8.983152841195215E-9,
   "zTolerance": 0.001,
   "mTolerance": 0.001,
   "falseX": -400,
   "falseY": -400,
   "xyUnits": 9.999999999999999E8,
   "falseZ": -100000,
   "zUnits": 10000,
   "falseM": -100000,
   "mUnits": 10000
  }
 },
 "fullExtent": {
  "xmin": 71.85081460500004,
  "ymin": -70.20221811799996,
  "xmax": 155.5367314350001,
  "ymax": -10.432807142999934,
  "spatialReference": {
   "wkid": 4326,
   "latestWkid": 4326,
   "xyTolerance": 8.983152841195215E-9,
   "zTolerance": 0.001,
   "mTolerance": 0.001,
   "falseX": -400,
   "falseY": -400,
   "xyUnits": 9.999999999999999E8,
   "falseZ": -100000,
   "zUnits": 10000,
   "falseM": -100000,
   "mUnits": 10000
  }
 },
 "datesInUnknownTimezone": false,
 "minScale": 2.958287637958547E8,
 "maxScale": 3.6978595474481836E7,
 "units": "esriDecimalDegrees",
 "supportedImageFormatTypes": "PNG32,PNG24,PNG,JPG,DIB,TIFF,EMF,PS,PDF,GIF,SVG,SVGZ,BMP",
 "documentInfo": {
  "Title": "Animal mortality",
  "Author": "",
  "Comments": "This layer is designed to store data on observations of sickness and death in wild birds from across Australia as they happen. With concerns about highly pathogenic avian influenza across the globe, these reports will help to increase awareness, determine trends and monitor the impacts of instances of sickness and death in wild birds nationally.",
  "Subject": "Layer for storing sick and dead animal reporting",
  "Category": "",
  "Version": "3.3.0",
  "AntialiasingMode": "Fast",
  "TextAntialiasingMode": "Force",
  "Keywords": "Bird Mortality,External use,Australia"
 },
 "supportsQueryDomains": true,
 "capabilities": "Map",
 "supportedQueryFormats": "JSON, geoJSON, PBF",
 "exportTilesAllowed": false,
 "referenceScale": 0.0,
 "supportsDatumTransformation": true,
 "floorAwareMapProperties": {
  "defaultFloorFilterSettings": {
   "isEnabled": false
  }
 },
 "archivingInfo": {
  "supportsHistoricMoment": true
 },
 "supportsClipping": true,
 "supportsSpatialFilter": true,
 "supportsTimeRelation": true,
 "supportsQueryDataElements": true,
 "mapUnits": {
  "uwkid": 9102
 },
 "maxSelectionCount": 2000,
 "maxRecordCount": 2000,
 "maxImageHeight": 4096,
 "maxImageWidth": 4096,
 "supportedExtensions": "FeatureServer",
 "serviceItemId": "6f38cb1a997a40598c1e147d904cb349"
}
